BEGIN:VCALENDAR
VERSION:2.0
BEGIN:VEVENT
URL:https://tickets.gympietickets.com.au/outlet/event/c9201673-3f30-45ac-bed4-2755c05b1d86
DTSTART:20260919T010000Z
DTEND:20260919T010000Z
SUMMARY:Gympie RSL Crystal Vase Race Day | September 19
DESCRIPTION:Event details: https://tickets.gympietickets.com.au/outlet/event/c9201673-3f30-45ac-bed4-2755c05b1d86
LOCATION:Gympie Turf Club  (Southside, QLD)
END:VEVENT
END:VCALENDAR