BEGIN:VCALENDAR
VERSION:2.0
BEGIN:VEVENT
URL:https://tickets.gympietickets.com.au/outlet/event/bd1b41b2-b587-4ced-b8bc-540ef58126d1
DTSTART:20261024T010000Z
DTEND:20261024T010000Z
SUMMARY:Brown, Macaulay & Warren Chartered Accountants Gympie Cup | October 24
DESCRIPTION:Event details: https://tickets.gympietickets.com.au/outlet/event/bd1b41b2-b587-4ced-b8bc-540ef58126d1
LOCATION:Gympie Turf Club  (Southside, QLD)
END:VEVENT
END:VCALENDAR