BEGIN:VCALENDAR
VERSION:2.0
BEGIN:VEVENT
URL:https://tickets.gympietickets.com.au/outlet/event/b522e1da-ec01-4662-a557-f9e2715a46b5
DTSTART:20260822T010000Z
DTEND:20260822T010000Z
SUMMARY:NOLAN Muster Cup | August 22
DESCRIPTION:Event details: https://tickets.gympietickets.com.au/outlet/event/b522e1da-ec01-4662-a557-f9e2715a46b5
LOCATION:Gympie Turf Club  (Southside, QLD)
END:VEVENT
END:VCALENDAR