BEGIN:VCALENDAR
VERSION:2.0
BEGIN:VEVENT
URL:https://tickets.gympietickets.com.au/outlet/event/302e1f55-9317-48a0-8f73-7253f7d79639
DTSTART:20260718T010000Z
DTEND:20260718T010000Z
SUMMARY:Winter Race Day | July 18
DESCRIPTION:Event details: https://tickets.gympietickets.com.au/outlet/event/302e1f55-9317-48a0-8f73-7253f7d79639
LOCATION:Gympie Turf Club  (Southside, QLD)
END:VEVENT
END:VCALENDAR