BEGIN:VCALENDAR
VERSION:2.0
BEGIN:VEVENT
URL:https://tickets.gympietickets.com.au/outlet/event/2fb71c49-f6c2-4416-bd27-43d93e8a28d3
DTSTART:20261121T010000Z
DTEND:20261121T010000Z
SUMMARY:4Tint2U Cooloola Window Tinting Signs & Design 5K Ca$h Giveaway| November 21
DESCRIPTION:Event details: https://tickets.gympietickets.com.au/outlet/event/2fb71c49-f6c2-4416-bd27-43d93e8a28d3
LOCATION:Gympie Turf Club  (Southside, QLD)
END:VEVENT
END:VCALENDAR